Workbook

Sheet Anleitung

Sheet Liste
A1: Name:
A2: Verkäufernummer:
A3: Telefonnummer:
A4: Anschrift:
A6: Nr. | B6: Nr. | C6: Artikelbezeichnung | E6: Größe | F6: Preis | G6: Kontrolle | H6: 1
A7: =$D$2 -> 0 | B7: 1 | H7: =IF(F7="",H6,H6*F7/(F7/5+1)) -> 1
A8: =$D$2 -> 0 | B8: 2 | H8: =IF(F8="",H7,(H7+F8)/(F8/5+1)) -> 1
A9: =$D$2 -> 0 | B9: 3 | H9: =IF(F9="",H8,H8*F9/(F9/5+1)) -> 1
A10: =$D$2 -> 0 | B10: 4 | H10: =IF(F10="",H9,(H9+F10)/(F10/5+1)) -> 1
A11: =$D$2 -> 0 | B11: 5 | H11: =IF(F11="",H10,H10*F11/(F11/5+1)) -> 1
A12: =$D$2 -> 0 | B12: 6 | H12: =IF(F12="",H11,(H11+F12)/(F12/5+1)) -> 1
A13: =$D$2 -> 0 | B13: 7 | H13: =IF(F13="",H12,H12*F13/(F13/5+1)) -> 1
A14: =$D$2 -> 0 | B14: 8 | H14: =IF(F14="",H13,(H13+F14)/(F14/5+1)) -> 1
A15: =$D$2 -> 0 | B15: 9 | H15: =IF(F15="",H14,H14*F15/(F15/5+1)) -> 1
A16: =$D$2 -> 0 | B16: 10 | H16: =IF(F16="",H15,(H15+F16)/(F16/5+1)) -> 1
A17: =$D$2 -> 0 | B17: 11 | H17: =IF(F17="",H16,H16*F17/(F17/5+1)) -> 1
A18: =$D$2 -> 0 | B18: 12 | H18: =IF(F18="",H17,(H17+F18)/(F18/5+1)) -> 1
A19: =$D$2 -> 0 | B19: 13 | H19: =IF(F19="",H18,H18*F19/(F19/5+1)) -> 1
A20: =$D$2 -> 0 | B20: 14 | H20: =IF(F20="",H19,(H19+F20)/(F20/5+1)) -> 1
A21: =$D$2 -> 0 | B21: 15 | H21: =IF(F21="",H20,H20*F21/(F21/5+1)) -> 1
A22: =$D$2 -> 0 | B22: 16 | H22: =IF(F22="",H21,(H21+F22)/(F22/5+1)) -> 1
A23: =$D$2 -> 0 | B23: 17 | H23: =IF(F23="",H22,H22*F23/(F23/5+1)) -> 1
A24: =$D$2 -> 0 | B24: 18 | H24: =IF(F24="",H23,(H23+F24)/(F24/5+1)) -> 1
A25: =$D$2 -> 0 | B25: 19 | H25: =IF(F25="",H24,H24*F25/(F25/5+1)) -> 1
A26: =$D$2 -> 0 | B26: 20 | H26: =IF(F26="",H25,(H25+F26)/(F26/5+1)) -> 1
A27: =$D$2 -> 0 | B27: 21 | H27: =IF(F27="",H26,H26*F27/(F27/5+1)) -> 1
A28: =$D$2 -> 0 | B28: 22 | H28: =IF(F28="",H27,(H27+F28)/(F28/5+1)) -> 1
A29: =$D$2 -> 0 | B29: 23 | H29: =IF(F29="",H28,H28*F29/(F29/5+1)) -> 1
A30: =$D$2 -> 0 | B30: 24 | H30: =IF(F30="",H29,(H29+F30)/(F30/5+1)) -> 1
A31: =$D$2 -> 0 | B31: 25 | H31: =IF(F31="",H30,H30*F31/(F31/5+1)) -> 1
A32: =$D$2 -> 0 | B32: 26 | H32: =IF(F32="",H31,(H31+F32)/(F32/5+1)) -> 1
A33: =$D$2 -> 0 | B33: 27 | H33: =IF(F33="",H32,H32*F33/(F33/5+1)) -> 1
A34: =$D$2 -> 0 | B34: 28 | H34: =IF(F34="",H33,(H33+F34)/(F34/5+1)) -> 1
A35: =$D$2 -> 0 | B35: 29 | H35: =IF(F35="",H34,H34*F35/(F35/5+1)) -> 1
A36: =$D$2 -> 0 | B36: 30 | H36: =IF(F36="",H35,(H35+F36)/(F36/5+1)) -> 1
A37: =$D$2 -> 0 | B37: 31 | H37: =IF(F37="",H36,H36*F37/(F37/5+1)) -> 1
A38: =$D$2 -> 0 | B38: 32 | H38: =IF(F38="",H37,(H37+F38)/(F38/5+1)) -> 1
A39: =$D$2 -> 0 | B39: 33 | H39: =IF(F39="",H38,H38*F39/(F39/5+1)) -> 1
A40: =$D$2 -> 0 | B40: 34 | H40: =IF(F40="",H39,(H39+F40)/(F40/5+1)) -> 1
A41: =$D$2 -> 0 | B41: 35 | H41: =IF(F41="",H40,H40*F41/(F41/5+1)) -> 1
...

Sheet Etiketten
A1: =Liste!$H$42 -> F4240 | D1: =Liste!$H$42 -> F4240 | G1: =Liste!$H$42 -> F4240 | J1: =Liste!$H$42 -> F4240 | M1: =Liste!$H$42 -> F4240 | P1: =Liste!$H$42 -> F4240
A2: ⃝ | D2: ⃝ | G2: ⃝ | J2: ⃝ | M2: ⃝ | P2: ⃝
A3: =Liste!$D$2 -> 0 | B3: / | C3: =Liste!$B7 -> 1 | D3: =Liste!$D$2 -> 0 | E3: / | F3: =Liste!$B8 -> 2 | G3: =Liste!$D$2 -> 0 | H3: / | I3: =Liste!$B9 -> 3 | J3: =Liste!$D$2 -> 0 | K3: / | L3: =Liste!$B10 -> 4 | M3: =Liste!$D$2 -> 0 | N3: / | O3: =Liste!$B11 -> 5 | P3: =Liste!$D$2 -> 0 | Q3: / | R3: =Liste!$B12 -> 6
A4: =Liste!$C7 -> 0 | D4: =Liste!$C8 -> 0 | G4: =Liste!$C9 -> 0 | J4: =Liste!$C10 -> 0 | M4: =Liste!$C11 -> 0 | P4: =Liste!$C12 -> 0
A5: Größe | B5: : | C5: =" " & Liste!$E7 | D5: Größe | E5: : | F5: =" " & Liste!$E8 | G5: Größe | H5: : | I5: =" " & Liste!$E9 | J5: Größe | K5: : | L5: =" " & Liste!$E10 | M5: Größe | N5: : | O5: =" " & Liste!$E11 | P5: Größe | Q5: : | R5: =" " & Liste!$E12
A6: =Liste!$F7 -> 0 | D6: =Liste!$F8 -> 0 | G6: =Liste!$F9 -> 0 | J6: =Liste!$F10 -> 0 | M6: =Liste!$F11 -> 0 | P6: =Liste!$F12 -> 0
A7: =Liste!$H$42 -> F4240 | D7: =Liste!$H$42 -> F4240 | G7: =Liste!$H$42 -> F4240 | J7: =Liste!$H$42 -> F4240 | M7: =Liste!$H$42 -> F4240 | P7: =Liste!$H$42 -> F4240
A8: ⃝ | D8: ⃝ | G8: ⃝ | J8: ⃝ | M8: ⃝ | P8: ⃝
A9: =Liste!$D$2 -> 0 | B9: / | C9: =Liste!$B13 -> 7 | D9: =Liste!$D$2 -> 0 | E9: / | F9: =Liste!$B14 -> 8 | G9: =Liste!$D$2 -> 0 | H9: / | I9: =Liste!$B15 -> 9 | J9: =Liste!$D$2 -> 0 | K9: / | L9: =Liste!$B16 -> 10 | M9: =Liste!$D$2 -> 0 | N9: / | O9: =Liste!$B17 -> 11 | P9: =Liste!$D$2 -> 0 | Q9: / | R9: =Liste!$B18 -> 12
A10: =Liste!$C13 -> 0 | D10: =Liste!$C14 -> 0 | G10: =Liste!$C15 -> 0 | J10: =Liste!$C16 -> 0 | M10: =Liste!$C17 -> 0 | P10: =Liste!$C18 -> 0
A11: Größe | B11: : | C11: =" " & Liste!$E13 | D11: Größe | E11: : | F11: =" " & Liste!$E14 | G11: Größe | H11: : | I11: =" " & Liste!$E15 | J11: Größe | K11: : | L11: =" " & Liste!$E16 | M11: Größe | N11: : | O11: =" " & Liste!$E17 | P11: Größe | Q11: : | R11: =" " & Liste!$E18
A12: =Liste!$F13 -> 0 | D12: =Liste!$F14 -> 0 | G12: =Liste!$F15 -> 0 | J12: =Liste!$F16 -> 0 | M12: =Liste!$F17 -> 0 | P12: =Liste!$F18 -> 0
A13: =Liste!$H$42 -> F4240 | D13: =Liste!$H$42 -> F4240 | G13: =Liste!$H$42 -> F4240 | J13: =Liste!$H$42 -> F4240 | M13: =Liste!$H$42 -> F4240 | P13: =Liste!$H$42 -> F4240
A14: ⃝ | D14: ⃝ | G14: ⃝ | J14: ⃝ | M14: ⃝ | P14: ⃝
A15: =Liste!$D$2 -> 0 | B15: / | C15: =Liste!$B19 -> 13 | D15: =Liste!$D$2 -> 0 | E15: / | F15: =Liste!$B20 -> 14 | G15: =Liste!$D$2 -> 0 | H15: / | I15: =Liste!$B21 -> 15 | J15: =Liste!$D$2 -> 0 | K15: / | L15: =Liste!$B22 -> 16 | M15: =Liste!$D$2 -> 0 | N15: / | O15: =Liste!$B23 -> 17 | P15: =Liste!$D$2 -> 0 | Q15: / | R15: =Liste!$B24 -> 18
A16: =Liste!$C19 -> 0 | D16: =Liste!$C20 -> 0 | G16: =Liste!$C21 -> 0 | J16: =Liste!$C22 -> 0 | M16: =Liste!$C23 -> 0 | P16: =Liste!$C24 -> 0
A17: Größe | B17: : | C17: =" " & Liste!$E19 | D17: Größe | E17: : | F17: =" " & Liste!$E20 | G17: Größe | H17: : | I17: =" " & Liste!$E21 | J17: Größe | K17: : | L17: =" " & Liste!$E22 | M17: Größe | N17: : | O17: =" " & Liste!$E23 | P17: Größe | Q17: : | R17: =" " & Liste!$E24
A18: =Liste!$F19 -> 0 | D18: =Liste!$F20 -> 0 | G18: =Liste!$F21 -> 0 | J18: =Liste!$F22 -> 0 | M18: =Liste!$F23 -> 0 | P18: =Liste!$F24 -> 0
A19: =Liste!$H$42 -> F4240 | D19: =Liste!$H$42 -> F4240 | G19: =Liste!$H$42 -> F4240 | J19: =Liste!$H$42 -> F4240 | M19: =Liste!$H$42 -> F4240 | P19: =Liste!$H$42 -> F4240
A20: ⃝ | D20: ⃝ | G20: ⃝ | J20: ⃝ | M20: ⃝ | P20: ⃝
A21: =Liste!$D$2 -> 0 | B21: / | C21: =Liste!$B25 -> 19 | D21: =Liste!$D$2 -> 0 | E21: / | F21: =Liste!$B26 -> 20 | G21: =Liste!$D$2 -> 0 | H21: / | I21: =Liste!$B27 -> 21 | J21: =Liste!$D$2 -> 0 | K21: / | L21: =Liste!$B28 -> 22 | M21: =Liste!$D$2 -> 0 | N21: / | O21: =Liste!$B29 -> 23 | P21: =Liste!$D$2 -> 0 | Q21: / | R21: =Liste!$B30 -> 24
A22: =Liste!$C25 -> 0 | D22: =Liste!$C26 -> 0 | G22: =Liste!$C27 -> 0 | J22: =Liste!$C28 -> 0 | M22: =Liste!$C29 -> 0 | P22: =Liste!$C30 -> 0
A23: Größe | B23: : | C23: =" " & Liste!$E25 | D23: Größe | E23: : | F23: =" " & Liste!$E26 | G23: Größe | H23: : | I23: =" " & Liste!$E27 | J23: Größe | K23: : | L23: =" " & Liste!$E28 | M23: Größe | N23: : | O23: =" " & Liste!$E29 | P23: Größe | Q23: : | R23: =" " & Liste!$E30
A24: =Liste!$F25 -> 0 | D24: =Liste!$F26 -> 0 | G24: =Liste!$F27 -> 0 | J24: =Liste!$F28 -> 0 | M24: =Liste!$F29 -> 0 | P24: =Liste!$F30 -> 0
A25: =Liste!$H$42 -> F4240 | D25: =Liste!$H$42 -> F4240 | G25: =Liste!$H$42 -> F4240 | J25: =Liste!$H$42 -> F4240 | M25: =Liste!$H$42 -> F4240 | P25: =Liste!$H$42 -> F4240
A26: ⃝ | D26: ⃝ | G26: ⃝ | J26: ⃝ | M26: ⃝ | P26: ⃝
A27: =Liste!$D$2 -> 0 | B27: / | C27: =Liste!$B31 -> 25 | D27: =Liste!$D$2 -> 0 | E27: / | F27: =Liste!$B32 -> 26 | G27: =Liste!$D$2 -> 0 | H27: / | I27: =Liste!$B33 -> 27 | J27: =Liste!$D$2 -> 0 | K27: / | L27: =Liste!$B34 -> 28 | M27: =Liste!$D$2 -> 0 | N27: / | O27: =Liste!$B35 -> 29 | P27: =Liste!$D$2 -> 0 | Q27: / | R27: =Liste!$B36 -> 30
A28: =Liste!$C31 -> 0 | D28: =Liste!$C32 -> 0 | G28: =Liste!$C33 -> 0 | J28: =Liste!$C34 -> 0 | M28: =Liste!$C35 -> 0 | P28: =Liste!$C36 -> 0
A29: Größe | B29: : | C29: =" " & Liste!$E31 | D29: Größe | E29: : | F29: =" " & Liste!$E32 | G29: Größe | H29: : | I29: =" " & Liste!$E33 | J29: Größe | K29: : | L29: =" " & Liste!$E34 | M29: Größe | N29: : | O29: =" " & Liste!$E35 | P29: Größe | Q29: : | R29: =" " & Liste!$E36
A30: =Liste!$F31 -> 0 | D30: =Liste!$F32 -> 0 | G30: =Liste!$F33 -> 0 | J30: =Liste!$F34 -> 0 | M30: =Liste!$F35 -> 0 | P30: =Liste!$F36 -> 0
A31: =Liste!$H$42 -> F4240 | D31: =Liste!$H$42 -> F4240 | G31: =Liste!$H$42 -> F4240 | J31: =Liste!$H$42 -> F4240 | M31: =Liste!$H$42 -> F4240
A32: ⃝ | D32: ⃝ | G32: ⃝ | J32: ⃝ | M32: ⃝
A33: =Liste!$D$2 -> 0 | B33: / | C33: =Liste!$B37 -> 31 | D33: =Liste!$D$2 -> 0 | E33: / | F33: =Liste!$B38 -> 32 | G33: =Liste!$D$2 -> 0 | H33: / | I33: =Liste!$B39 -> 33 | J33: =Liste!$D$2 -> 0 | K33: / | L33: =Liste!$B40 -> 34 | M33: =Liste!$D$2 -> 0 | N33: / | O33: =Liste!$B41 -> 35
A34: =Liste!$C37 -> 0 | D34: =Liste!$C38 -> 0 | G34: =Liste!$C39 -> 0 | J34: =Liste!$C40 -> 0 | M34: =Liste!$C41 -> 0
A35: Größe | B35: : | C35: =" " & Liste!$E37 | D35: Größe | E35: : | F35: =" " & Liste!$E38 | G35: Größe | H35: : | I35: =" " & Liste!$E39 | J35: Größe | K35: : | L35: =" " & Liste!$E40 | M35: Größe | N35: : | O35: =" " & Liste!$E41
A36: =Liste!$F37 -> 0 | D36: =Liste!$F38 -> 0 | G36: =Liste!$F39 -> 0 | J36: =Liste!$F40 -> 0 | M36: =Liste!$F41 -> 0

Sheet Datenschutz
